BEGIN:VCALENDAR
VERSION:2.0
PRODID:-//Taucher-Zentrum Planet Scuba - ECPv6.15.17.1//NONSGML v1.0//EN
CALSCALE:GREGORIAN
METHOD:PUBLISH
X-WR-CALNAME:Taucher-Zentrum Planet Scuba
X-ORIGINAL-URL:https://www.taucher-zentrum.de
X-WR-CALDESC:Veranstaltungen für Taucher-Zentrum Planet Scuba
REFRESH-INTERVAL;VALUE=DURATION:PT1H
X-Robots-Tag:noindex
X-PUBLISHED-TTL:PT1H
BEGIN:VTIMEZONE
TZID:Europe/Berlin
BEGIN:DAYLIGHT
TZOFFSETFROM:+0100
TZOFFSETTO:+0200
TZNAME:CEST
DTSTART:20250330T010000
END:DAYLIGHT
BEGIN:STANDARD
TZOFFSETFROM:+0200
TZOFFSETTO:+0100
TZNAME:CET
DTSTART:20251026T010000
END:STANDARD
BEGIN:DAYLIGHT
TZOFFSETFROM:+0100
TZOFFSETTO:+0200
TZNAME:CEST
DTSTART:20260329T010000
END:DAYLIGHT
BEGIN:STANDARD
TZOFFSETFROM:+0200
TZOFFSETTO:+0100
TZNAME:CET
DTSTART:20261025T010000
END:STANDARD
BEGIN:DAYLIGHT
TZOFFSETFROM:+0100
TZOFFSETTO:+0200
TZNAME:CEST
DTSTART:20270328T010000
END:DAYLIGHT
BEGIN:STANDARD
TZOFFSETFROM:+0200
TZOFFSETTO:+0100
TZNAME:CET
DTSTART:20271031T010000
END:STANDARD
END:VTIMEZONE
BEGIN:VEVENT
DTSTART;VALUE=DATE:20260620
DTEND;VALUE=DATE:20260622
DTSTAMP:20260421T114520
CREATED:20251225T103059Z
LAST-MODIFIED:20251225T103059Z
UID:10003515-1781949600-1782061200@www.taucher-zentrum.de
SUMMARY:Wochenendausfahrt OWD Freiwasser Schwerin
DESCRIPTION:Wochenendausfahrten \nErlebe unvergessliche Tauchausfahrten zu aufregenden Tauchzielen und das alles an einem Wochenende!\nUnsere Wochenendausfahrten führen dich zu traumhaften Tauchdestinationen\, von kristallklaren Seen bis hin zu faszinierenden Küstenregionen.\nSpaß und Abenteuer stehen dabei immer im Fokus!\nEgal\, ob du ein erfahrener Taucher bist oder gerade erst mit dem Tauchen beginnst – bei uns kommen alle auf ihre Kosten.\nDu kannst an verschiedenen Tauchkursen teilnehmen\, um deine Fähigkeiten zu erweitern\, oder einfach nur das Wasser genießen und neue Tauchplätze entdecken.\nAlles in einer entspannten Atmosphäre\, mit tollen Leuten.\nMelde dich noch heute an und erlebe ein Wochenende voller Spaß und unvergesslicher Tauchmomente!\nDu benötigst Equipment?\nWenn Du noch keine eigene Ausrüstung besitzt\, kannst Du alles (oder Teile) bei uns leihen\, Club Mitglieder bekommen Club-Rabatt 30%. \nDie Ziele unserer Club-Ausfahrten werden kurz vor der Ausfahrt bekannt gegeben und im Internet angepasst. \nZur besseren Planung\, bitten wir um Anmeldung per Mail.
URL:https://www.taucher-zentrum.de/event/clubtauchen-2-2-2/2026-06-20/
LOCATION:Kosies Dive Center\, Forststraße 19\, Raben Steinfeld\, 19065\, Deutschland
CATEGORIES:Anfänger,Ausfahrten,Club,Events,Veranstaltungen
ATTACH;FMTTYPE=image/jpeg:https://www.taucher-zentrum.de/wp-content/uploads/Club/MaikHasselfeld_677665276017826-e1704890593722.jpeg
END:VEVENT
BEGIN:VEVENT
DTSTART;VALUE=DATE:20260829
DTEND;VALUE=DATE:20260831
DTSTAMP:20260421T114520
CREATED:20251225T103059Z
LAST-MODIFIED:20251225T103059Z
UID:10003516-1787997600-1788109200@www.taucher-zentrum.de
SUMMARY:Wochenendausfahrt OWD Freiwasser Schwerin
DESCRIPTION:Wochenendausfahrten \nErlebe unvergessliche Tauchausfahrten zu aufregenden Tauchzielen und das alles an einem Wochenende!\nUnsere Wochenendausfahrten führen dich zu traumhaften Tauchdestinationen\, von kristallklaren Seen bis hin zu faszinierenden Küstenregionen.\nSpaß und Abenteuer stehen dabei immer im Fokus!\nEgal\, ob du ein erfahrener Taucher bist oder gerade erst mit dem Tauchen beginnst – bei uns kommen alle auf ihre Kosten.\nDu kannst an verschiedenen Tauchkursen teilnehmen\, um deine Fähigkeiten zu erweitern\, oder einfach nur das Wasser genießen und neue Tauchplätze entdecken.\nAlles in einer entspannten Atmosphäre\, mit tollen Leuten.\nMelde dich noch heute an und erlebe ein Wochenende voller Spaß und unvergesslicher Tauchmomente!\nDu benötigst Equipment?\nWenn Du noch keine eigene Ausrüstung besitzt\, kannst Du alles (oder Teile) bei uns leihen\, Club Mitglieder bekommen Club-Rabatt 30%. \nDie Ziele unserer Club-Ausfahrten werden kurz vor der Ausfahrt bekannt gegeben und im Internet angepasst. \nZur besseren Planung\, bitten wir um Anmeldung per Mail.
URL:https://www.taucher-zentrum.de/event/clubtauchen-2-2-2/2026-08-29/
LOCATION:Kosies Dive Center\, Forststraße 19\, Raben Steinfeld\, 19065\, Deutschland
CATEGORIES:Anfänger,Ausfahrten,Club,Events,Veranstaltungen
ATTACH;FMTTYPE=image/jpeg:https://www.taucher-zentrum.de/wp-content/uploads/Club/MaikHasselfeld_677665276017826-e1704890593722.jpeg
END:VEVENT
BEGIN:VEVENT
DTSTART;VALUE=DATE:20261107
DTEND;VALUE=DATE:20261109
DTSTAMP:20260421T114520
CREATED:20251225T103059Z
LAST-MODIFIED:20251225T103059Z
UID:10003517-1794045600-1794157200@www.taucher-zentrum.de
SUMMARY:Wochenendausfahrt OWD Freiwasser Schwerin
DESCRIPTION:Wochenendausfahrten \nErlebe unvergessliche Tauchausfahrten zu aufregenden Tauchzielen und das alles an einem Wochenende!\nUnsere Wochenendausfahrten führen dich zu traumhaften Tauchdestinationen\, von kristallklaren Seen bis hin zu faszinierenden Küstenregionen.\nSpaß und Abenteuer stehen dabei immer im Fokus!\nEgal\, ob du ein erfahrener Taucher bist oder gerade erst mit dem Tauchen beginnst – bei uns kommen alle auf ihre Kosten.\nDu kannst an verschiedenen Tauchkursen teilnehmen\, um deine Fähigkeiten zu erweitern\, oder einfach nur das Wasser genießen und neue Tauchplätze entdecken.\nAlles in einer entspannten Atmosphäre\, mit tollen Leuten.\nMelde dich noch heute an und erlebe ein Wochenende voller Spaß und unvergesslicher Tauchmomente!\nDu benötigst Equipment?\nWenn Du noch keine eigene Ausrüstung besitzt\, kannst Du alles (oder Teile) bei uns leihen\, Club Mitglieder bekommen Club-Rabatt 30%. \nDie Ziele unserer Club-Ausfahrten werden kurz vor der Ausfahrt bekannt gegeben und im Internet angepasst. \nZur besseren Planung\, bitten wir um Anmeldung per Mail.
URL:https://www.taucher-zentrum.de/event/clubtauchen-2-2-2/2026-11-07/
LOCATION:Kosies Dive Center\, Forststraße 19\, Raben Steinfeld\, 19065\, Deutschland
CATEGORIES:Anfänger,Ausfahrten,Club,Events,Veranstaltungen
ATTACH;FMTTYPE=image/jpeg:https://www.taucher-zentrum.de/wp-content/uploads/Club/MaikHasselfeld_677665276017826-e1704890593722.jpeg
END:VEVENT
END:VCALENDAR