BEGIN:VCALENDAR
VERSION:2.0
PRODID:-//Taucher-Zentrum Planet Scuba - ECPv6.15.17.1//NONSGML v1.0//EN
CALSCALE:GREGORIAN
METHOD:PUBLISH
X-ORIGINAL-URL:https://www.taucher-zentrum.de
X-WR-CALDESC:Veranstaltungen für Taucher-Zentrum Planet Scuba
REFRESH-INTERVAL;VALUE=DURATION:PT1H
X-Robots-Tag:noindex
X-PUBLISHED-TTL:PT1H
BEGIN:VTIMEZONE
TZID:Europe/Berlin
BEGIN:DAYLIGHT
TZOFFSETFROM:+0100
TZOFFSETTO:+0200
TZNAME:CEST
DTSTART:20250330T010000
END:DAYLIGHT
BEGIN:STANDARD
TZOFFSETFROM:+0200
TZOFFSETTO:+0100
TZNAME:CET
DTSTART:20251026T010000
END:STANDARD
BEGIN:DAYLIGHT
TZOFFSETFROM:+0100
TZOFFSETTO:+0200
TZNAME:CEST
DTSTART:20260329T010000
END:DAYLIGHT
BEGIN:STANDARD
TZOFFSETFROM:+0200
TZOFFSETTO:+0100
TZNAME:CET
DTSTART:20261025T010000
END:STANDARD
BEGIN:DAYLIGHT
TZOFFSETFROM:+0100
TZOFFSETTO:+0200
TZNAME:CEST
DTSTART:20270328T010000
END:DAYLIGHT
BEGIN:STANDARD
TZOFFSETFROM:+0200
TZOFFSETTO:+0100
TZNAME:CET
DTSTART:20271031T010000
END:STANDARD
END:VTIMEZONE
BEGIN:VEVENT
DTSTART;TZID=Europe/Berlin:20260306T180000
DTEND;TZID=Europe/Berlin:20260306T200000
DTSTAMP:20260425T194044
CREATED:20251224T204742Z
LAST-MODIFIED:20260102T093729Z
UID:10003170-1772820000-1772827200@www.taucher-zentrum.de
SUMMARY:Try Scuba Pool
DESCRIPTION:Try Scuba/Schnuppertauchen „light“ im Freibad (nur in den Sommermonaten möglich!) \nDu wolltest schon immer Mal unter Wasser atmen? Schwerelos dahingleiten? Mit uns kannst Du an einem Abend schweben und die ersten Atemzüge unter Wasser erleben! Du brauchst nichts weiter als Badebekleidung und ein Handtuch!\nVoraussetzung für alle Kurse ist der vollständig ausgefüllte medizinische Fragebogen (es muss überall ein „Nein“ stehen) oder ein tauchsportärtzliches Attest. Bitte spätestens zum Kursabend mitbringen. \nTreffen ist um 18:00 Uhr am Swym Rübenkamp Winterlindenweg 22 \nZeitrahmen: 1 Abend Einweisung & Pool (ca. 2 Stunden) \nIm Kurspreis enthalten:\n• kurze Einweisung & Praxisunterricht\n• Begleitung durch einen unserer Tauchlehrer\n• Digitale Bestätigung nach SSI\n• Schwimmbadeintritt\n• Equipment \nPro Person: 69\,- €*\nVIP Einzelunterricht: 79\,- €*\n \n  \nFür alle Anmeldungen gelten unsere AGBs für Kurse\, Ausfahrten & Kurztrips.\nIm Falle einer Absage des Kurstermins durch den Schüler: 30\,- € Umbuchungsgebühr \n  \n> JETZT ANFRAGEN\nBitte aktiviere JavaScript in deinem Browser\, um dieses Formular fertigzustellen.Wähle hier deinen KursTry MermaidTry ScubaGib' hier das Kursdatum an *Name *VornameNachnameStrasse & HausnummerPostleitzahl & OrtTelefonnummer *Geburtsdatum *E-Mail *Körpergröße *Damit wir den optimalen Neoprenanzug für Dich einpacken können!\nGewicht in kg *Damit wir den optimalen Neoprenanzug für Dich einpacken können!\nSchuhgröße *Damit wir die optimalen Flossen & Füsslinge für Dich einpacken können!BemerkungNewsletterJa\, ich möchte den Newsletter erhalten.Medizinischer Fragebogen und AGBs *Ja\, ich habe die Bedingungen für Tauchkurse / Kurztrips gelesen.Ja\, ich konnte alle Fragen auf dem medizinischen Fragebogen mit "Nein" beantworten. Falls ich Fragen mit "Ja" beantwortet habe\, muss ich bis zum Kursbeginn eine Tauchtauglichkeitsbestätigung vorweisen.Aquamed-CardJa\, ich möchte eine Aquamed-Card beantragenPhoneJetzt Anmelden
URL:https://www.taucher-zentrum.de/event/try-scuba-2023-im-freibad-2/2026-03-06/
LOCATION:Swym Rübenkamp\, Winterlindenweg 22\, Hamburg\, 22297\, Germany
CATEGORIES:Anfänger,Kurse,Pool,Tauchen lernen,Try Scuba
ATTACH;FMTTYPE=image/jpeg:https://www.taucher-zentrum.de/wp-content/uploads/2020/02/termine430x250_tryscuba_RBarten_205851.jpg
END:VEVENT
BEGIN:VEVENT
DTSTART;TZID=Europe/Berlin:20260306T180000
DTEND;TZID=Europe/Berlin:20260306T200000
DTSTAMP:20260425T194044
CREATED:20251224T205236Z
LAST-MODIFIED:20251224T205237Z
UID:10003174-1772820000-1772827200@www.taucher-zentrum.de
SUMMARY:Spezialkurs Perfect Buoyancy Pool Start
DESCRIPTION:Perfect Buoyancy/Perfekte Tarierung. \nWer möchte nicht gut austariert und schwerelos durchs Wasser gleiten – über heimische Süß- und Ostseewassergründe oder über traumhafte Korallenriffe…\nGute Tarierung\, die richtige Bleimenge und andere wertvolle Tipps und Tricks werden in diesem Kurs durchgenommen.\nVoraussetzung für alle Kurse ist ein Tauch sportärztliches Attest\, das bitte per Mail zur Anmeldung an uns gesendet werden sollte (wenn es uns noch nicht vorliegt) \nZeitrahmen: 1 Abend Theorie & 2 Tauchgänge. \nIm Kurspreis enthalten:\n• Theorie- & Praxisunterricht\n• Begleitung durch einen unserer Tauchlehrer\n• Digitale Ausbildungsunterlagen nach SSI\n• Gedrucktes Brevet\n• Flasche & Blei für alle Ausbildungstauchgänge \nUnd das brauchst Du noch:\n• Eigenes Equipment – in Verbindung mit einem Kurs kann Equipment zu einem Sonderpreis geliehen werden.\n• Verpflegung\n• Anreise\n• evtl. anfallende Eintrittsgebühren bzw. Tauchgenehmigungen \nPreis: 159\,- € • Clubmitglieder -10% \n  \n  \n  \n		\n							\n						\n				Jetzt anmelden			\n			\n					\n	\nBitte aktiviere JavaScript in deinem Browser\, um dieses Formular fertigzustellen.Gib' hier das Kursdatum an *Beginn amWähle hier Deinen Kurs: *Advanced AdventurerDeepDry SuitExtended RangeNavigationNight & Limited VisibilityPerfect BuoyancyScooternSearch & RecoveryStress & RescueUW-PhotographieWave\, Tides & CurrentsWreckAdvanced Open Water DiverSide MountName *VornameNachnameStrasse & HausnummerPostleitzahl & OrtTelefonnummer *Geburtsdatum *E-Mail *Körpergröße *Damit wir den optimalen Neoprenanzug für Dich einpacken können!\nGewicht in kg *Damit wir den optimalen Neoprenanzug für Dich einpacken können!\nSchuhgröße *Damit wir die optimalen Flossen & Füsslinge für Dich einpacken können!BemerkungNewsletterJa\, ich möchte den Newsletter erhalten.Medizinischer Fragebogen und AGBs *Ja\, ich habe die Bedingungen für Tauchkurse / Kurztrips gelesen.Ja\, ich konnte alle Fragen auf dem medizinischen Fragebogen mit "Nein" beantworten. Falls ich Fragen mit "Ja" beantwortet habe\, muss ich bis zum Kursbeginn eine Tauchtauglichkeitsbestätigung vorweisen.Ich benötige folgendes Equipment:Ich habe komplett eigenes Equipment.Flossen (8 Euro/Tag)Handschuhe (4 Euro/Tag)Lungenautomat Sport (15 Euro/Tag)Lungenautomat DIR (20 Euro/Tag)Jacket (10 Euro/Tag)Backplate/Wing (20 Euro/Tag)Neoprenanzug 7mm (10 Euro/Tag)Eisweste 5mm (5 Euro/Tag)Kopfhaube (4 Euro/Tag)Computer (10 Euro/Tag)Flasche/Blei ist im Kurspreis enthalten.\nBei Kursbuchung - 30 % Rabatt auf die Verleihpreise.Zusätzlich benötige ich folgendes Equipment:Maske/Schnorchel (8 Euro/Tag)Füsslinge (4 Euro/Tag)Lampe (10 Euro/Tag)Kompass (8 Euro/Tag)Trocki (45 Euro/Tag)Unterzieher (20 Euro/Tag)Scooter (50 Euro/Tag)Aquamed-CardJa\, ich möchte eine Aquamed-Card beantragenAnzahl Tauchgänge *Ich tauche seit *MessageJetzt Anmelden
URL:https://www.taucher-zentrum.de/event/spezialkurs-perfect-buoyancy-2-2/2026-03-06/
CATEGORIES:Kurse,Weiterbildung
ATTACH;FMTTYPE=image/jpeg:https://www.taucher-zentrum.de/wp-content/uploads/2020/02/termine430x250_perfectbuoy_TKempf.jpg
END:VEVENT
BEGIN:VEVENT
DTSTART;TZID=Europe/Berlin:20260306T180000
DTEND;TZID=Europe/Berlin:20260306T200000
DTSTAMP:20260425T194044
CREATED:20251230T190308Z
LAST-MODIFIED:20251230T190308Z
UID:10004073-1772820000-1772827200@www.taucher-zentrum.de
SUMMARY:Try Mermaid
DESCRIPTION:Try Mermaiding – Dein Einstieg in die faszinierende Welt der Meerjungfrauen\nEntdecke das einzigartige Erlebnis des Mermaiding! Du wolltest schon immer einmal wie eine Meerjungfrau oder ein Meermann durch das Wasser gleiten? Dann ist unser Try Mermaiding Kurs genau das Richtige für dich. Egal ob Anfänger oder Fortgeschrittener – erlebe einen unvergesslichen Moment unter Wasser. \n\nWas ist Mermaiding?\nMermaiding ist weit mehr als nur Schwimmen – es ist ein Lifestyle. Mit speziell entworfenen Meerjungfrauenflossen tauchst du in die Welt der Fantasie ein und lernst elegante Bewegungen unter Wasser. Dabei trainierst du nicht nur deinen Körper\, sondern auch deine Koordination\, Balance und Atemtechnik. \n\nFür wen ist „Try Mermaiding“ geeignet?\nUnser Try Mermaiding Kurs richtet sich an: \n\n\nAnfänger\, die einfach einmal ausprobieren wollen\, wie es ist\, wie eine Meerjungfrau zu schwimmen \n\n\nKinder und Erwachsene\, die ein unvergessliches Erlebnis suchen \n\n\nSportbegeisterte\, die ihre Fitness spielerisch verbessern möchten \n\n\nKeine Vorerfahrung notwendig – wir begleiten dich Schritt für Schritt! \n\nDas erwartet dich im Kurs\n\n\nEinführung in die Technik der Meerjungfrauenflosse \n\n\nAtem- und Sicherheitstraining im Wasser \n\n\nErlernen von Unterwasserbewegungen \n\n\nProfessionelle Betreuung durch unsere erfahrenen Mermaiding-Trainer \n\n\nEin spaßiges und unvergessliches Erlebnis für die ganze Familie \n\n\n\nWarum Try Mermaiding?\n\n\nSpaß & Fitness: Kombiniere Sport und Spiel in einer einzigartigen Art des Schwimmens \n\n\nStressabbau & Entspannung: Tauche ab und lasse den Alltag hinter dir \n\n\nUnvergessliche Momente: Perfekt für Fotos\, Videos und Social Media \n\n\n\nJetzt deinen Platz sichern\nBist du bereit für dein erstes Mermaiding-Abenteuer? Buche jetzt unseren Try Mermaiding Kurs und werde für einen Tag zur Meerjungfrau! \nPreis: 49\,- € • Clubmitglieder -10% \n\n\n\n\n\nWHAT ELSE?\n\n\n\n\n\n\n\n> JETZT ANMELDEN\nBitte aktiviere JavaScript in deinem Browser\, um dieses Formular fertigzustellen.Wähle hier deinen KursTry MermaidTry ScubaGib' hier das Kursdatum an *Name *VornameNachnameStrasse & HausnummerPostleitzahl & OrtTelefonnummer *Geburtsdatum *E-Mail *Körpergröße *Damit wir den optimalen Neoprenanzug für Dich einpacken können!\nGewicht in kg *Damit wir den optimalen Neoprenanzug für Dich einpacken können!\nSchuhgröße *Damit wir die optimalen Flossen & Füsslinge für Dich einpacken können!BemerkungNewsletterJa\, ich möchte den Newsletter erhalten.Medizinischer Fragebogen und AGBs *Ja\, ich habe die Bedingungen für Tauchkurse / Kurztrips gelesen.Ja\, ich konnte alle Fragen auf dem medizinischen Fragebogen mit "Nein" beantworten. Falls ich Fragen mit "Ja" beantwortet habe\, muss ich bis zum Kursbeginn eine Tauchtauglichkeitsbestätigung vorweisen.Aquamed-CardJa\, ich möchte eine Aquamed-Card beantragenMessageJetzt Anmelden
URL:https://www.taucher-zentrum.de/event/try-mermaid/2026-03-06/
LOCATION:Swym Rübenkamp\, Winterlindenweg 22\, Hamburg\, 22297\, Germany
CATEGORIES:Kurse,Mermaid,Pool,Tauchen lernen
ATTACH;FMTTYPE=image/jpeg:https://www.taucher-zentrum.de/wp-content/uploads/2020/02/termine430x250_tryscuba_RBarten_205851.jpg
END:VEVENT
BEGIN:VEVENT
DTSTART;TZID=Europe/Berlin:20260306T180000
DTEND;TZID=Europe/Berlin:20260306T200000
DTSTAMP:20260425T194044
CREATED:20260128T144558Z
LAST-MODIFIED:20260128T145500Z
UID:10005455-1772820000-1772827200@www.taucher-zentrum.de
SUMMARY:Refresher im Pool Start
DESCRIPTION:Refresher im Schwimmbad \nDer Refresher \nZeitrahmen: 1 Abend Einweisung & Pool (ca. 3-4 Stunden) jeweils Freitags \nIm Kurspreis enthalten:\n• Theoriewiederholung & Praxisunterricht (1 TG in Pool 2m)\n• Begleitung durch einen unserer Tauchlehrer \nUnd das brauchst Du noch:\n• Equipment – kann zum Sonderpeis für den Kurs geliehen werden.\n• Verpflegung\n• Anreise\n• evtl. anfallende Eintrittsgebühren bzw. Tauchgenehmigungen \nPreis: 79\,- € • Clubmitglieder kostenlos \n  \n  \n  \n> JETZT ANMELDEN \nBitte aktiviere JavaScript in deinem Browser\, um dieses Formular fertigzustellen.Scuba Skills Update - Gib' hier dein Wunschdatum an *Gerne können auch 2-3 Termine zur Auswahl genannt werden.Name *VornameNachnameStrasse & HausnummerPostleitzahl & OrtTelefonnummer *Geburtsdatum *E-Mail *Körpergröße *Damit wir den optimalen Neoprenanzug für Dich einpacken können!\nGewicht in kg *Damit wir den optimalen Neoprenanzug für Dich einpacken können!\nSchuhgröße *Damit wir die optimalen Flossen & Füsslinge für Dich einpacken können!BemerkungNewsletterJa\, ich möchte den Newsletter erhalten.Tauchsportärztliches Attest und AGBs *Ja\, ich habe die Bedingungen für Tauchkurse / Kurztrips gelesen.Ja\, ich habe ein aktuelles tauchsportärztliches AttestIch benötige folgendes Equipment:Ich habe komplett eigenes Equipment.Flossen 8 €/TagFüsslinge 4\,- €/TagMaske/Schnorchel 8\,- €/TagLungenautomat Sport 15\,- €/TagLungenautomat DIR 20\,- €/TagJacket 10\,- €/TagBackplate/Wing 20\,- €/TagNeoprenanzug 7mm 10\,- €/TagEisweste 5\,- €/TagKopfhaube 4\,- €/TagComputer 10\,- €/TagFlasche/Blei ist im Kurspreis enthalten.\nIn Verbindung mit dem Kurs gibt es Sonderpreise.Aquamed-CardJa\, ich möchte eine Aquamed-Card beantragenAnzahl Tauchgänge *Ich tauche seit *MessageJetzt Anmelden
URL:https://www.taucher-zentrum.de/event/scuba-skills-update-pool-2-2/2026-03-06/
LOCATION:Swym Rübenkamp\, Winterlindenweg 22\, Hamburg\, 22297\, Germany
CATEGORIES:Anfänger,Kurse,Pool,Weiterbildung
ATTACH;FMTTYPE=image/jpeg:https://www.taucher-zentrum.de/wp-content/uploads/2020/02/termine430x250_ssu_RBarten_212427.jpg
END:VEVENT
END:VCALENDAR