BEGIN:VCALENDAR
VERSION:2.0
PRODID:-//Taucher-Zentrum Planet Scuba - ECPv6.15.17.1//NONSGML v1.0//EN
CALSCALE:GREGORIAN
METHOD:PUBLISH
X-ORIGINAL-URL:https://www.taucher-zentrum.de
X-WR-CALDESC:Veranstaltungen für Taucher-Zentrum Planet Scuba
REFRESH-INTERVAL;VALUE=DURATION:PT1H
X-Robots-Tag:noindex
X-PUBLISHED-TTL:PT1H
BEGIN:VTIMEZONE
TZID:Europe/Berlin
BEGIN:DAYLIGHT
TZOFFSETFROM:+0100
TZOFFSETTO:+0200
TZNAME:CEST
DTSTART:20250330T010000
END:DAYLIGHT
BEGIN:STANDARD
TZOFFSETFROM:+0200
TZOFFSETTO:+0100
TZNAME:CET
DTSTART:20251026T010000
END:STANDARD
BEGIN:DAYLIGHT
TZOFFSETFROM:+0100
TZOFFSETTO:+0200
TZNAME:CEST
DTSTART:20260329T010000
END:DAYLIGHT
BEGIN:STANDARD
TZOFFSETFROM:+0200
TZOFFSETTO:+0100
TZNAME:CET
DTSTART:20261025T010000
END:STANDARD
BEGIN:DAYLIGHT
TZOFFSETFROM:+0100
TZOFFSETTO:+0200
TZNAME:CEST
DTSTART:20270328T010000
END:DAYLIGHT
BEGIN:STANDARD
TZOFFSETFROM:+0200
TZOFFSETTO:+0100
TZNAME:CET
DTSTART:20271031T010000
END:STANDARD
END:VTIMEZONE
BEGIN:VEVENT
DTSTART;TZID=Europe/Berlin:20260327T180000
DTEND;TZID=Europe/Berlin:20260327T200000
DTSTAMP:20260421T051600
CREATED:20251230T190308Z
LAST-MODIFIED:20251230T190308Z
UID:10004074-1774634400-1774641600@www.taucher-zentrum.de
SUMMARY:Try Mermaid
DESCRIPTION:Try Mermaiding – Dein Einstieg in die faszinierende Welt der Meerjungfrauen\nEntdecke das einzigartige Erlebnis des Mermaiding! Du wolltest schon immer einmal wie eine Meerjungfrau oder ein Meermann durch das Wasser gleiten? Dann ist unser Try Mermaiding Kurs genau das Richtige für dich. Egal ob Anfänger oder Fortgeschrittener – erlebe einen unvergesslichen Moment unter Wasser. \n\nWas ist Mermaiding?\nMermaiding ist weit mehr als nur Schwimmen – es ist ein Lifestyle. Mit speziell entworfenen Meerjungfrauenflossen tauchst du in die Welt der Fantasie ein und lernst elegante Bewegungen unter Wasser. Dabei trainierst du nicht nur deinen Körper\, sondern auch deine Koordination\, Balance und Atemtechnik. \n\nFür wen ist „Try Mermaiding“ geeignet?\nUnser Try Mermaiding Kurs richtet sich an: \n\n\nAnfänger\, die einfach einmal ausprobieren wollen\, wie es ist\, wie eine Meerjungfrau zu schwimmen \n\n\nKinder und Erwachsene\, die ein unvergessliches Erlebnis suchen \n\n\nSportbegeisterte\, die ihre Fitness spielerisch verbessern möchten \n\n\nKeine Vorerfahrung notwendig – wir begleiten dich Schritt für Schritt! \n\nDas erwartet dich im Kurs\n\n\nEinführung in die Technik der Meerjungfrauenflosse \n\n\nAtem- und Sicherheitstraining im Wasser \n\n\nErlernen von Unterwasserbewegungen \n\n\nProfessionelle Betreuung durch unsere erfahrenen Mermaiding-Trainer \n\n\nEin spaßiges und unvergessliches Erlebnis für die ganze Familie \n\n\n\nWarum Try Mermaiding?\n\n\nSpaß & Fitness: Kombiniere Sport und Spiel in einer einzigartigen Art des Schwimmens \n\n\nStressabbau & Entspannung: Tauche ab und lasse den Alltag hinter dir \n\n\nUnvergessliche Momente: Perfekt für Fotos\, Videos und Social Media \n\n\n\nJetzt deinen Platz sichern\nBist du bereit für dein erstes Mermaiding-Abenteuer? Buche jetzt unseren Try Mermaiding Kurs und werde für einen Tag zur Meerjungfrau! \nPreis: 49\,- € • Clubmitglieder -10% \n\n\n\n\n\nWHAT ELSE?\n\n\n\n\n\n\n\n> JETZT ANMELDEN\nBitte aktiviere JavaScript in deinem Browser\, um dieses Formular fertigzustellen.Wähle hier deinen KursTry MermaidTry ScubaGib' hier das Kursdatum an *Name *VornameNachnameStrasse & HausnummerPostleitzahl & OrtTelefonnummer *Geburtsdatum *E-Mail *Körpergröße *Damit wir den optimalen Neoprenanzug für Dich einpacken können!\nGewicht in kg *Damit wir den optimalen Neoprenanzug für Dich einpacken können!\nSchuhgröße *Damit wir die optimalen Flossen & Füsslinge für Dich einpacken können!BemerkungNewsletterJa\, ich möchte den Newsletter erhalten.Medizinischer Fragebogen und AGBs *Ja\, ich habe die Bedingungen für Tauchkurse / Kurztrips gelesen.Ja\, ich konnte alle Fragen auf dem medizinischen Fragebogen mit "Nein" beantworten. Falls ich Fragen mit "Ja" beantwortet habe\, muss ich bis zum Kursbeginn eine Tauchtauglichkeitsbestätigung vorweisen.Aquamed-CardJa\, ich möchte eine Aquamed-Card beantragenPhoneJetzt Anmelden
URL:https://www.taucher-zentrum.de/event/try-mermaid/2026-03-27/
LOCATION:Swym Rübenkamp\, Winterlindenweg 22\, Hamburg\, 22297\, Germany
CATEGORIES:Kurse,Mermaid,Pool,Tauchen lernen
ATTACH;FMTTYPE=image/jpeg:https://www.taucher-zentrum.de/wp-content/uploads/2020/02/termine430x250_tryscuba_RBarten_205851.jpg
END:VEVENT
END:VCALENDAR