BEGIN:VCALENDAR
VERSION:2.0
PRODID:-//Taucher-Zentrum Planet Scuba - ECPv6.15.17.1//NONSGML v1.0//EN
CALSCALE:GREGORIAN
METHOD:PUBLISH
X-ORIGINAL-URL:https://www.taucher-zentrum.de
X-WR-CALDESC:Veranstaltungen für Taucher-Zentrum Planet Scuba
REFRESH-INTERVAL;VALUE=DURATION:PT1H
X-Robots-Tag:noindex
X-PUBLISHED-TTL:PT1H
BEGIN:VTIMEZONE
TZID:Europe/Berlin
BEGIN:DAYLIGHT
TZOFFSETFROM:+0100
TZOFFSETTO:+0200
TZNAME:CEST
DTSTART:20250330T010000
END:DAYLIGHT
BEGIN:STANDARD
TZOFFSETFROM:+0200
TZOFFSETTO:+0100
TZNAME:CET
DTSTART:20251026T010000
END:STANDARD
BEGIN:DAYLIGHT
TZOFFSETFROM:+0100
TZOFFSETTO:+0200
TZNAME:CEST
DTSTART:20260329T010000
END:DAYLIGHT
BEGIN:STANDARD
TZOFFSETFROM:+0200
TZOFFSETTO:+0100
TZNAME:CET
DTSTART:20261025T010000
END:STANDARD
BEGIN:DAYLIGHT
TZOFFSETFROM:+0100
TZOFFSETTO:+0200
TZNAME:CEST
DTSTART:20270328T010000
END:DAYLIGHT
BEGIN:STANDARD
TZOFFSETFROM:+0200
TZOFFSETTO:+0100
TZNAME:CET
DTSTART:20271031T010000
END:STANDARD
END:VTIMEZONE
BEGIN:VEVENT
DTSTART;TZID=Europe/Berlin:20260421T180000
DTEND;TZID=Europe/Berlin:20260421T200000
DTSTAMP:20260421T011726
CREATED:20221213T094749Z
LAST-MODIFIED:20241120T134047Z
UID:10002428-1776794400-1776801600@www.taucher-zentrum.de
SUMMARY:OWD-Kurs Start
DESCRIPTION:> Zurück zur Kurs-Übersicht\n  \n\n			\n				\n			\n				\n				Foto: RBoroschewski\n				\n		\n\n\nDer Start in das Hobby Tauchen beginnt bei uns immer mit einer Orientation\, bei der du alles an Wissen mitbekommst\, was du benötigst\, um entspannt in den Kurs zu starten. \n\nOWD-Basic Einsteigerkurs:\n\nIn diesem Kurs wird in 6 Pool-Einheiten\, 3 Theorieabenden oder E-Learning im Selbststudium und 4 Freiwassertauchgängen alles Nötige an Wissen vermittelt\, was ihr braucht\, um am Ende des Kurses selbständig tauchen gehen zu können. \n\n Preis 559\,- € (hinzukommt\, ABC-Ausrüstung (Maske\, Schnorchel\, Füßlinge\, Flossen\, diese müssen käuflich erworben werden))\n\n\nOWD – Comfort Einsteiger Kurs:\n\nDies ist unser Komfortpaket\, genieße den Kurs im absoluten Komfort. Mit dem besten Tauchequipment\, das der Tauchmarkt zu bieten hat. Bis Pool 5 hast du die Möglichkeit dieses Equipment käuflich zu erwerben oder auf die Basic Ausrüstung zu wechseln und die weiteren Tauchgänge mit der Ausrüstung zu bestreiten. Ein Spezialangebot wird dir bei der Orientation nahegelegt. In diesem Kurs geben wir dir 3 Versprechen. \n\nHöchstes Level an Qualität zu liefern (Sicherheit und Wohlbefinden stehen bei uns an oberster Stelle)\nEinen fertigen Taucher aus dir zu machen\nDich nach deinem OWD nicht ohne Buddy da stehenzulassen\, wir gehen mit dir weiter tauchen\n\n• Preis 899\,- €\, keine zusätzlichen Kosten! \n• OWD – Deluxe Einsteiger Kurs: \nIn diesem Paket bieten wir dir ein Personal Training an. Individuelle Termine in Absprache. \n6x Pool\, 3x Theorie\, wenn nötig mehr Pooleinheiten möglich 60 € pro Einheit \nIn diesem Kurs hast du auch wieder die Möglichkeit\, in den Genuss zu kommen\, den Kurs im absoluten Komfort zu absolvieren. Mit dem besten Tauchequipment\, das der Tauchmarkt zu bieten hat. Bis Pool 5 hast du die Möglichkeit\, dieses Equipment käuflich zu erwerben oder auf die Basic Ausrüstung zu wechseln und die weiteren Tauchgänge mit der Ausrüstung zu bestreiten. Ein Spezialangebot wird dir bei der Orientation nahegelegt. Die Freiwasser Tauchgänge werden in der Tauchdestination deiner Wahl abgenommen. \n• Preis 799\,- € (hinzukommen Reisekosten) \nVoraussetzung für alle Kurse ist ein tauch sportärztliches Attest\, das bitte per Mail zur Anmeldung an uns gesendet werden sollte (wenn es uns bisher nicht vorliegt) \nIn allen Kurspreisen enthalten:\n• Theorie- & Praxisunterricht\n• Begleitung durch einen unserer Tauchlehrer\n• Digitale Ausbildungsunterlagen nach SSI\n• Logbucheinlagen\n• Gedrucktes Brevet\n• Flasche & Blei für alle Ausbildungstauchgänge\n• Leihequipment\n• 1 Monat kostenlose Mitgliedschaft im Planet Scuba Club (ohne AquaMed-Card) \nUnd das brauchst du noch:\n• Verpflegung\n• Anreise (gerne helfen wir dir\, eine Mitfahrgelegenheit zu finden)\n		\n							\n						\n				WHAT ELSE?			\n			\n					\n	\n					\n			\n								\n					\n												\n							\n								25\n								April\n							\n						\n\n					\n					Schnorchel-Kurs\n				\n				\n					\n																			17:00 — 20:00											\n					 Schwimmhalle Barsbüttel					\n				\n				\n					Schnorchel-Kurs In diesem Kurs lernst Du in Theorie und Praxis\, wie man kraftsparend schwimmt\, richtig abtaucht und den Druckausgleich durchführt\, um den unangenehmen Druck auf den Ohren wegzubekommen. Unsere Schnorchelkurse… \n				\n			\n		\n							\n			\n								\n					\n												\n							\n								25\n								April\n							\n						\n\n					\n					Refresher im Pool Start\n				\n				\n					\n																			25. April 2026 18:00 — 16. Dezember 2026 20:00											\n					 Swym Rübenkamp					\n				\n				\n					Refresher im Schwimmbad Der Refresher Zeitrahmen: 1 Abend Einweisung & Pool (ca. 3-4 Stunden) jeweils Freitags Im Kurspreis enthalten: • Theoriewiederholung & Praxisunterricht (1 TG in Pool 2m) • Begleitung… \n				\n			\n		\n					\n			\n							\n			\n								\n					\n												\n							\n								01\n								Mai\n							\n						\n\n					\n					Spezialkurs Perfect Buoyancy Pool Start\n				\n				\n					\n																			18:00 — 20:00											\n					 					\n				\n				\n					Perfect Buoyancy/Perfekte Tarierung. Wer möchte nicht gut austariert und schwerelos durchs Wasser gleiten – über heimische Süß- und Ostseewassergründe oder über traumhafte Korallenriffe… Gute Tarierung\, die richtige Bleimenge und andere… \n				\n			\n		\n							\n			\n								\n					\n												\n							\n								07\n								Mai\n							\n						\n\n					\n					EAN Nitrox Kurs\n				\n				\n					\n																			18:30 — 22:00											\n					 Taucher-Zentrum					\n				\n				\n					Nitrox/Enriched Air. 🧪 SSI Enriched Air Nitrox Kurs – Sicherer und länger tauchen Du willst deine Nullzeit verlängern und dabei sicherer tauchen? Dann ist unser Nitrox-Kurs genau das Richtige für… \n				\n			\n		\n				\n\n\n\n\n\n> JETZT ANMELDEN\nBitte aktiviere JavaScript in deinem Browser\, um dieses Formular fertigzustellen.Ich möchte mich für folgenden Kurs anmelden *OWD BasicOWD ComfortOWD DeluxeMeine Wunschtermine für den OWD-Kurs oder Referral-Kurs *Name *VornameNachnameStrasse & HausnummerPostleitzahl & OrtTelefonnummer *Geburtsdatum *E-Mail *Körpergröße *Damit wir den optimalen Neoprenanzug für Dich einpacken können!\nGewicht in kg *Damit wir den optimalen Neoprenanzug für Dich einpacken können!\nSchuhgröße *Damit wir die optimalen Flossen für Dich einpacken können!BemerkungNewsletterJa\, ich möchte den Newsletter erhalten.Medizinischer Fragebogen und AGBs *Ja\, ich habe die Bedingungen für Tauchkurse / Kurztrips gelesen.Ja\, ich werde zum Kursbeginn eine aktuelle Tauchtauglichkeitsbestätigung vorweisen.Ich benötige folgendes Equipment:FlossenHandschuheLungenautomat DIRComputerKompassJacketNeoprenanzug 7mmEisweste 5mmKopfhaubeDas Equipment ist im Kurspreis enthalten. Du benötigst alles oben genannte für den Kurs\, bitte kreuze das an\, was Du nicht selber besitzt. Zusätzlich brauchst Du eigene Maske/Schnorchel und Füsslinge. Bei Kauf im Taucher-Zentrum erhältst Du 10% Rabatt.Aquamed-CardJa\, ich möchte eine Aquamed-Card beantragenWebsiteJetzt Anmelden
URL:https://www.taucher-zentrum.de/event/owd-kurs-i-2023/2026-04-21/
LOCATION:Taucher-Zentrum\, Papenhuder Straße 40\, Hamburg\, 22087
CATEGORIES:Anfänger,Kurse,Pool,Tauchen lernen
ATTACH;FMTTYPE=image/jpeg:https://www.taucher-zentrum.de/wp-content/uploads/2020/02/termine430x250_owd_RBoroschewski_1155.jpg
END:VEVENT
END:VCALENDAR